BEGIN:VCALENDAR
VERSION:2.0
PRODID:-//CiviCRM//NONSGML CiviEvent iCal//EN
X-WR-TIMEZONE:America/Phoenix
METHOD:PUBLISH
BEGIN:VTIMEZONE
TZID:America/Phoenix
BEGIN:STANDARD
TZOFFSETFROM:-0700
TZOFFSETTO:-0700
TZNAME:MST
DTSTART:20260816T093000
END:STANDARD
END:VTIMEZONE
BEGIN:VEVENT
UID:CiviCRM_EventID_5220_aa7d905c7345c293eba9a75387b4c6b0@hsgp.org
SUMMARY:Navigators USA (Youth + Family)
X-ALT-DESC;FMTTYPE=text/html:<!DOCTYPE HTML PUBLIC
  "-//W3C//DTD HTML 3.2//EN"><html><body><p>Come jo
 in the family fun at HSGP’s <strong>Navigators USA
 </strong><br /> <br /> A secular and inclusive fam
 ily scouting program for everyone. All ages welcom
 e as we build our community together to learn\, ex
 plore\, and have fun in the outdoors.<br /> <br />
  Attendees will help plan future activities for ou
 r Navigators USA group. These will include meeting
 s to work on badges\, field trips\, hiking\, and c
 amping (multiple events per month\, attend when yo
 u can). Sunday morning meetings will usually be at
  the Humanist Community Center with additional off
 site events posted.  <br /> <br /> For more info p
 lease contact us at <a class="!text-ds2-text-fill-
 brand_primary-enabled hover:!text-ds2-text-fill-br
 and_primary-hover" href="http://hsgp.org" target="
 _blank" rel="noreferrer noopener">navigators@hsgp.
 org</a><br /> <br /> When you RSVP for this event 
 on <a href="http://www.meetup.com/humanist-society
 -of-greater-phoenix/events">meetup</a>\, please le
 ave a comment with ages of kids so we can be prepa
 red with appropriate activities.</p></body></html>
DESCRIPTION:Come join the family fun at HSGP’s Navigators USA\
 n  \n  A secular and inclusive family scouting pro
 gram for everyone. All ages welcome as we build ou
 r community together to learn\, explore\, and have
  fun in the outdoors.\n  \n  Attendees will help p
 lan future activities for our Navigators USA group
 . These will include meetings to work on badges\, 
 field trips\, hiking\, and camping (multiple event
 s per month\, attend when you can). Sunday morning
  meetings will usually be at the Humanist Communit
 y Center with additional offsite events posted.  \
 n  \n  For more info please contact us at navigato
 rs@hsgp.org (http://hsgp.org)\n  \n  When you RSVP
  for this event on meetup (http://www.meetup.com/h
 umanist-society-of-greater-phoenix/events)\, pleas
 e leave a comment with ages of kids so we can be p
 repared with appropriate activities.\n \n 
CATEGORIES:Meeting
CALSCALE:GREGORIAN
DTSTAMP;TZID=America/Phoenix:20260816T093000
DTSTART;TZID=America/Phoenix:20260816T093000
DTEND;TZID=America/Phoenix:20260816T093000
LOCATION:627 W RIO SALADO PKWY\n HSGP HUMANIST CENTER\n MES
 A\, AZ 85201-4009\n United States\n 
URL:https://hsgp.org/civicrm/event/info/?reset=1&id=5220
END:VEVENT
END:VCALENDAR
