BEGIN:VCALENDAR
VERSION:2.0
PRODID:-//CiviCRM//NONSGML CiviEvent iCal//EN
X-WR-TIMEZONE:America/Phoenix
METHOD:PUBLISH
BEGIN:VTIMEZONE
TZID:America/Phoenix
BEGIN:STANDARD
TZOFFSETFROM:-0700
TZOFFSETTO:-0700
TZNAME:MST
DTSTART:20260422T143000
END:STANDARD
END:VTIMEZONE
BEGIN:VEVENT
UID:CiviCRM_EventID_5215_aa7d905c7345c293eba9a75387b4c6b0@hsgp.org
SUMMARY:Humanist Kids Club (Youth)
X-ALT-DESC;FMTTYPE=text/html:<!DOCTYPE HTML PUBLIC
  "-//W3C//DTD HTML 3.2//EN"><html><body><p class="
 mb-ds2-10"><strong>Humanist Kids Club @HSGP</stron
 g><br /> <strong>Wednesday's from 2:30p.m. - 4:00p
 .m.</strong></p>\n <p class="mb-ds2-10">Our Humani
 st Kid's Club is open to young teens\,<br />4th gr
 ade and up. Families Welcome.<br /> We’ll have a v
 ariety of activities each week including movies\, 
 discussions\, crafts\, games\, yummy snacks\, scie
 nce experiments\, and homework help available.</p>
 \n <p class="mb-ds2-10">The Humanist Kid's Club is
  focused on the Humanist ideals of living life eth
 ically and joyfully.<br /> Join us as we participa
 te in and support service projects like\, neighbor
 hood cleanups\, making toys for shelter animals\, 
 and drives to collect various goods to donate to t
 hose in need.<br /> Activities and discussions bas
 ed around the Ten Commitments of Humanism.</p>\n <
 p>Please RSVP using <a href="https://www.meetup.co
 m/humanist-society-of-greater-phoenix/events/31222
 4428/?eventOrigin=group_calendar">meetup</a>  Note
 : club may be cancelled or end early if there are 
 no RSVP  </p></body></html>
DESCRIPTION:Humanist Kids Club @HSGP\n  Wednesday's from 2:30p
 .m. - 4:00p.m.\n \n \n Our Humanist Kid's Club is 
 open to young teens\,\n 4th grade and up. Families
  Welcome.\n  We’ll have a variety of activities ea
 ch week including movies\, discussions\, crafts\, 
 games\, yummy snacks\, science experiments\, and h
 omework help available.\n \n \n The Humanist Kid's
  Club is focused on the Humanist ideals of living 
 life ethically and joyfully.\n  Join us as we part
 icipate in and support service projects like\, nei
 ghborhood cleanups\, making toys for shelter anima
 ls\, and drives to collect various goods to donate
  to those in need.\n  Activities and discussions b
 ased around the Ten Commitments of Humanism.\n \n 
 \n Please RSVP using meetup (https://www.meetup.co
 m/humanist-society-of-greater-phoenix/events/31222
 4428/?eventOrigin=group_calendar)  Note: club may 
 be cancelled or end early if there are no RSVP  \n
  \n 
CATEGORIES:Meeting
CALSCALE:GREGORIAN
DTSTAMP;TZID=America/Phoenix:20260422T143000
DTSTART;TZID=America/Phoenix:20260422T143000
DTEND;TZID=America/Phoenix:20260422T160000
LOCATION:627 W RIO SALADO PKWY\n Mesa\, AZ \n United States
 \n 
URL:https://hsgp.org/civicrm/event/info/?reset=1&id=5215
END:VEVENT
END:VCALENDAR
