BEGIN:VCALENDAR
VERSION:2.0
PRODID:-//CiviCRM//NONSGML CiviEvent iCal//EN
X-WR-TIMEZONE:America/Phoenix
METHOD:PUBLISH
BEGIN:VTIMEZONE
TZID:America/Phoenix
BEGIN:STANDARD
TZOFFSETFROM:-0700
TZOFFSETTO:-0700
TZNAME:MST
DTSTART:20260806T180000
END:STANDARD
END:VTIMEZONE
BEGIN:VEVENT
UID:CiviCRM_EventID_5117_aa7d905c7345c293eba9a75387b4c6b0@hsgp.org
SUMMARY:Inner Child Play-Care
X-ALT-DESC;FMTTYPE=text/html:<!DOCTYPE HTML PUBLIC
  "-//W3C//DTD HTML 3.2//EN"><html><body><p>Inner c
 hild play care is the practice of nurturing the ch
 ildlike aspect within us to heal past wounds\, inc
 rease joy\, and improve overall well-being. This i
 s achieved through various playful and creative ac
 tivities.</p>\n <div class="w-full break-words tra
 nsition-all duration-300 " style="font-family: Neu
 Sans\, Inter\, system-ui\, sans-serif\;">\n <p cla
 ss="mb-ds2-10">Join <strong>HSGP</strong> every <s
 trong>FIRST THURSDAY</strong> for a fun\, stress-f
 ree <strong>PLAY DATE</strong> where we embrace th
 e playful spirit within us all!</p>\n <p class="mb
 -ds2-10">The Plan:<br /> Create <strong>Valentines
  letters</strong> for the Humanist Pen Pal program
 \,<br /> color <strong>Heart Mandalas</strong>. Le
 t's play <strong>foursquare</strong>\, (heart-shap
 ed of course) We can dance the <strong>Cupid Shuff
 le</strong> and participate in a <strong>Lollipop 
 flavor challenge.</strong><br /> Supplies will be 
 included and please feel free to bring your own.</
 p>\n <p class="mb-ds2-10">Coffee\, tea and water a
 vailable. You can bring your beverage of choice.<b
 r /> The host will be providing chili\, corn bread
  and the ingredients for no-bake cookies.</p>\n <p
  class="mb-ds2-10">Together\, let's tap into our p
 layful side\, laugh\, create\, and let go of life’
 s worries.<br /> It is my pleasure to host this ev
 ent\,<br /> BeBe Calvo</p>\n <ul class="pl-5 list-
 disc mb-4">\n <li><em>This is a safe\, judgment fr
 ee space for those who experience visual and audit
 ory hallucinations and for those who live with dis
 sociative altars. Please contact the host if you h
 ave any questions or concerns. I look forward to m
 eeting you.</em></li>\n </ul>\n </div></body></htm
 l>
DESCRIPTION:Inner child play care is the practice of nurturing
  the childlike aspect within us to heal past wound
 s\, increase joy\, and improve overall well-being.
  This is achieved through various playful and crea
 tive activities.\n \n \n \n Join HSGP every FIRST 
 THURSDAY for a fun\, stress-free PLAY DATE where w
 e embrace the playful spirit within us all!\n \n \
 n The Plan:\n  Create Valentines letters for the H
 umanist Pen Pal program\,\n  color Heart Mandalas.
  Let's play foursquare\, (heart-shaped of course) 
 We can dance the Cupid Shuffle and participate in 
 a Lollipop flavor challenge.\n  Supplies will be i
 ncluded and please feel free to bring your own.\n 
 \n \n Coffee\, tea and water available. You can br
 ing your beverage of choice.\n  The host will be p
 roviding chili\, corn bread and the ingredients fo
 r no-bake cookies.\n \n \n Together\, let's tap in
 to our playful side\, laugh\, create\, and let go 
 of life’s worries.\n  It is my pleasure to host th
 is event\,\n  BeBe Calvo\n \n \n \n This is a safe
 \, judgment free space for those who experience vi
 sual and auditory hallucinations and for those who
  live with dissociative altars. Please contact the
  host if you have any questions or concerns. I loo
 k forward to meeting you.\n \n \n 
CATEGORIES:Meeting
CALSCALE:GREGORIAN
DTSTAMP;TZID=America/Phoenix:20260806T180000
DTSTART;TZID=America/Phoenix:20260806T180000
DTEND;TZID=America/Phoenix:20260806T210000
LOCATION:627 W RIO SALADO PKWY\n HSGP\n MESA\, AZ 85201-400
 9\n United States\n 
URL:https://hsgp.org/civicrm/event/info/?reset=1&id=5117
END:VEVENT
END:VCALENDAR
