BEGIN:VCALENDAR
VERSION:2.0
PRODID:-//CiviCRM//NONSGML CiviEvent iCal//EN
X-WR-TIMEZONE:America/Phoenix
METHOD:PUBLISH
BEGIN:VTIMEZONE
TZID:America/Phoenix
BEGIN:STANDARD
TZOFFSETFROM:-0700
TZOFFSETTO:-0700
TZNAME:MST
DTSTART:20260524T100000
END:STANDARD
END:VTIMEZONE
BEGIN:VEVENT
UID:CiviCRM_EventID_5047_aa7d905c7345c293eba9a75387b4c6b0@hsgp.org
SUMMARY:Sunday Speaker - TBA
X-ALT-DESC;FMTTYPE=text/html:<!DOCTYPE HTML PUBLIC
  "-//W3C//DTD HTML 3.2//EN"><html><body><p><strong
 >Sunday Speaker - TBA</strong></p>\n <div class="f
 lex justify-between items-center mb-5">\n <div cla
 ss="flex justify-between items-center mb-5">\n <p 
 class="mb-4"> </p>\n <p class="mb-4"><strong>Descr
 iption:</strong></p>\n <p> </p>\n <p> </p>\n <p cl
 ass="mb-4"><strong>Bio:</strong></p>\n <p><br /><b
 r /></p>\n <p class="mb-4"><strong>Please Note:</s
 trong><br /><strong>Doors open at</strong> <strong
 >9:00 am</strong> for optional buffet breakfast ($
 10 donation) and socializing. Speaker program begi
 ns at <strong>10:00 am</strong>.</p>\n <p class="m
 b-4"><strong>Important:</strong> $10 breakfast fee
  waived for awesome humans bringing in food to sha
 re!</p>\n <p class="mb-4"><strong>If you can help 
 with set-up\, clean-up\, and/or by bringing a brea
 kfast casserole\, please go to SignUpGenius (inser
 t updated link <a class="!text-viridian" href="htt
 ps://www.signupgenius.com/go/10C0448A4AB22A6FA7-54
 195629-january" target="_blank" rel="noreferrer no
 opener">Here</a></strong>.)</p>\n <p class="mb-4">
 A <strong>Children's Program</strong> is available
  during the Speaker Meeting. Go to a separate Meet
 up to RSVP for your kids (insert updated link <a c
 lass="!text-viridian" href="https://www.meetup.com
 /humanist-society-of-greater-phoenix/events/305337
 066" target="_blank" rel="noreferrer noopener"><st
 rong>Here</strong></a>.)</p>\n <p class="mb-4"><st
 rong>Prefer to join us remotely?</strong></p>\n <o
 l class="pl-5 list-decimal mb-4">\n <li>Zoom Link:
  <a href="https://us06web.zoom.us/j/83914164957?pw
 d=B4aEKcaGB4yUzRacnaFsbKXJzMk5Of.1">Link Here</a><
 /li>\n <li>YOUTUBE: You can watch live (15 second 
 delay)\, or you can watch later. <a class="!text-v
 iridian" href="https://www.youtube.com/channel/UCO
 w8Sl1yofrwRuGUYS_OOOA" target="_blank" rel="norefe
 rrer noopener">LINK HERE</a></li>\n </ol>\n <p cla
 ss="mb-4">Need help? Email <a class="!text-viridia
 n" href="http://hsgp.org/" target="_blank" rel="no
 referrer noopener">humanist@hsgp.org</a> before th
 e day of this meeting.</p>\n <p class="mb-4">The H
 umanist Society of Greater Phoenix presents its Su
 nday Speaker meetings twice a month on Sunday morn
 ings. Meetings are free and open to the public.</p
 >\n <p class="mb-4">**Go to our YouTube channel to
  see past meetings\, presentations and interviews.
  Please become a subscriber--it's free! <a class="
 !text-viridian" href="https://www.youtube.com/chan
 nel/UCOw8Sl1yofrwRuGUYS_OOOA" target="_blank" rel=
 "noreferrer noopener">LINK HERE</a><br />**We invi
 te you to become a dues-paying member of HSGP. To 
 become a member or make a donation\, go to <a clas
 s="!text-viridian" href="http://www.hsgp.org/" tar
 get="_blank" rel="noreferrer noopener">www.hsgp.or
 g</a></p>\n </div>\n <div class="break-words"> </d
 iv>\n </div></body></html>
DESCRIPTION:Sunday Speaker - TBA\n \n \n \n \n  \n \n \n Descr
 iption:\n \n \n  \n \n \n  \n \n \n Bio:\n \n \n \
 n \n \n \n \n Please Note:\n Doors open at 9:00 am
  for optional buffet breakfast ($10 donation) and 
 socializing. Speaker program begins at 10:00 am.\n
  \n \n Important: $10 breakfast fee waived for awe
 some humans bringing in food to share!\n \n \n If 
 you can help with set-up\, clean-up\, and/or by br
 inging a breakfast casserole\, please go to SignUp
 Genius (insert updated link Here (https://www.sign
 upgenius.com/go/10C0448A4AB22A6FA7-54195629-januar
 y).)\n \n \n A Children's Program is available dur
 ing the Speaker Meeting. Go to a separate Meetup t
 o RSVP for your kids (insert updated link Here.)\n
  \n \n Prefer to join us remotely?\n \n \n \n Zoom
  Link: Link Here (https://us06web.zoom.us/j/839141
 64957?pwd=B4aEKcaGB4yUzRacnaFsbKXJzMk5Of.1)\n YOUT
 UBE: You can watch live (15 second delay)\, or you
  can watch later. LINK HERE (https://www.youtube.c
 om/channel/UCOw8Sl1yofrwRuGUYS_OOOA)\n \n Need hel
 p? Email humanist@hsgp.org (http://hsgp.org/) befo
 re the day of this meeting.\n \n \n The Humanist S
 ociety of Greater Phoenix presents its Sunday Spea
 ker meetings twice a month on Sunday mornings. Mee
 tings are free and open to the public.\n \n \n **G
 o to our YouTube channel to see past meetings\, pr
 esentations and interviews. Please become a subscr
 iber--it's free! LINK HERE (https://www.youtube.co
 m/channel/UCOw8Sl1yofrwRuGUYS_OOOA)\n **We invite 
 you to become a dues-paying member of HSGP. To bec
 ome a member or make a donation\, go to www.hsgp.o
 rg (http://www.hsgp.org/)\n \n \n \n \n  \n \n \n 
CATEGORIES:Sunday Speaker
CALSCALE:GREGORIAN
DTSTAMP;TZID=America/Phoenix:20260524T100000
DTSTART;TZID=America/Phoenix:20260524T100000
DTEND;TZID=America/Phoenix:20260524T113000
LOCATION:627 W RIO SALADO PKWY\n HSGP HUMANIST CENTER\n MES
 A\, AZ 85201-4009\n United States\n 
URL:https://hsgp.org/civicrm/event/info/?reset=1&id=5047
END:VEVENT
END:VCALENDAR
